BEGIN:VCALENDAR
VERSION:2.0
PRODID:-//Western Locomotive Association - ECPv6.15.14//NONSGML v1.0//EN
CALSCALE:GREGORIAN
METHOD:PUBLISH
X-ORIGINAL-URL:https://westernlocomotives.com
X-WR-CALDESC:Events for Western Locomotive Association
REFRESH-INTERVAL;VALUE=DURATION:PT1H
X-Robots-Tag:noindex
X-PUBLISHED-TTL:PT1H
BEGIN:VTIMEZONE
TZID:Europe/London
BEGIN:DAYLIGHT
TZOFFSETFROM:+0000
TZOFFSETTO:+0100
TZNAME:BST
DTSTART:20250330T010000
END:DAYLIGHT
BEGIN:STANDARD
TZOFFSETFROM:+0100
TZOFFSETTO:+0000
TZNAME:GMT
DTSTART:20251026T010000
END:STANDARD
BEGIN:DAYLIGHT
TZOFFSETFROM:+0000
TZOFFSETTO:+0100
TZNAME:BST
DTSTART:20260329T010000
END:DAYLIGHT
BEGIN:STANDARD
TZOFFSETFROM:+0100
TZOFFSETTO:+0000
TZNAME:GMT
DTSTART:20261025T010000
END:STANDARD
BEGIN:DAYLIGHT
TZOFFSETFROM:+0000
TZOFFSETTO:+0100
TZNAME:BST
DTSTART:20270328T010000
END:DAYLIGHT
BEGIN:STANDARD
TZOFFSETFROM:+0100
TZOFFSETTO:+0000
TZNAME:GMT
DTSTART:20271031T010000
END:STANDARD
END:VTIMEZONE
BEGIN:VEVENT
DTSTART;TZID=Europe/London:20261001T000000
DTEND;TZID=Europe/London:20261004T235959
DTSTAMP:20260421T102152
CREATED:20251121T164243Z
LAST-MODIFIED:20260321T172046Z
UID:28427-1790812800-1791158399@westernlocomotives.com
SUMMARY:Autumn Diesel Bash
DESCRIPTION:Thursday 1 – Sunday 4 October\n\n\n\n\nThe annual Autumn Diesel Bash returns in October! \nWhat to expect at the Autumn Diesel Bash? Our four day diesel festival will feature both guest and home-fleet locomotives operating a busy timetable between Kidderminster and Bridgnorth. If you love diesel\, this is the place to be! Ride behind every locomotive\, visit The Engine House at Highley to break your day\, or sample the finest real-ales in our pubs\, as you experience the Severn Valley at its loudest!
URL:https://westernlocomotives.com/event/autumn-diesel-bash-2/
LOCATION:Severn V​alley Railway\, Station Approach\, Kidderminster\, DY10 1QX\, United Kingdom
ATTACH;FMTTYPE=image/jpeg:https://westernlocomotives.com/wp-content/uploads/2023/05/D1062-D1015-Cab-at-KR.jpeg
ORGANIZER;CN="Severn Valley Railway":MAILTO:contact@svrlive.com
END:VEVENT
END:VCALENDAR